Workbook
Name _Toc313975091: #REF!
Name _Toc313975095: #REF!
Name id_list: #REF!
Name id_list_1: #REF!
Name 同比上限值: #REF!
Name 同比上限值: #REF!
Name 同比上限值: #REF!
Name 同比上限值: #REF!
Name 同比下限值: #REF!
Name 同比下限值: #REF!
Name 同比下限值: #REF!
Name 同比下限值: #REF!
Name 环比上限值: #REF!
Name 环比下限值: #REF!

Sheet 1
B7: (1) China's Total Export & Import Values, Sep 2025 (in CNY)
B8: 수출입 금액
H9: Unit: CNY 100 Million (일억 위안)
B10: Item | C10: 항목 | D10: 9 | E10: 1-to-9 | F10: 9 | H10: 1-to-9
F11: Month-on-Month % 전월대비 백분율 변화 | G11: Year-on-Year % 전년동월대비 백분율 변화 | H11: Year-on-Year % 전년동기대비 백분율 변화
B12: Total Export & Import | C12: 수출입 | D12: 40436.242 | E12: 336078.11 | F12: 4.4 | G12: 8.0 | H12: 4.0
B13: Total Export | C13: 수출 | D13: 23445.464 | E13: 199449.59 | F13: 1.8 | G13: 8.4 | H13: 7.1
B14: Total Import | C14: 수입 | D14: 16990.778 | E14: 136628.52 | F14: 8.2 | G14: 7.5 | H14: -0.2
B15: Export-Import Balance | C15: 무역수지 | D15: 6454.6853 | E15: 62821.075 | F15: - | G15: - | H15: -
B16: Note: Export-Import Balance "+" indicates export more than import and "-" indicates export less than import.
B17: 무역수지 "+"는 수출이 수입보다 많음을 나타내고, "-"는 수출이 수입보다 적음을 나타냅니다.

Sheet 2
B12: (1) China's Total Export & Import Values, Sep 2025 (in USD)
B13: 수출입 금액
B14: Unit: USD 100 Million (일억 달러)
B15: Item | C15: 항목 | D15: 9 | E15: 1-to-9 | F15: 9 | H15: 1-to-9
F16: Month-on-Month ±% 전월대비 백분율 변화 | G16: Year-on-Year ±% 전년동월대비 백분율 변화 | H16: Year-on-Year ±% 전년동기대비 백분율 변화
B17: Total Export & Import | C17: 수출입 | D17: 5666.8335 | E17: 46841.892 | F17: 4.7 | G17: 7.9 | H17: 3.1
B18: Total Export | C18: 수출 | D18: 3285.654 | E18: 27796.366 | F18: 2.2 | G18: 8.3 | H18: 6.1
B19: Total Import | C19: 수입 | D19: 2381.1795 | E19: 19045.526 | F19: 8.5 | G19: 7.4 | H19: -1.1
B20: Export-Import Balance | C20: 무역수지 | D20: 904.47447 | E20: 8750.8407 | F20: - | G20: - | H20: -
B21: Note: Export-Import Balance "+" indicates export more than import and "-" indicates export less than import.
B22: =HLOOKUP(B21,'1'!16:17,2,0) -> 무역수지 "+"는 수출이 수입보다 많음을 나타내고, "-"는 수출이 수입보다 적음을 나타냅니다.

Sheet 3
B5: (2) China's Total Export & Import Values by Trade Mode,Sep 2025 (in CNY)
B6: 무역형태별 수출입 금액, 월간
B7: Unit: CNY 100 Million (일억 위안)
B8: Trade Mode | C8: 무역형태 | D8: 9 | G8: Year-on-Year (±%) 전년동월대비 백분율 변화
D9: Export & Import 수출입 | E9: Export 수출 | F9: Import 수입 | G9: Export & Import 수출입 | H9: Export 수출 | I9: Import 수입
B10: Total Value | C10: 총액 | D10: 40436.242 | E10: 23445.464 | F10: 16990.778 | G10: 8.0 | H10: 8.4 | I10: 7.5
B11: Ordinary Trade | C11: 일반 무역 | D11: 24835.36 | E11: 14719.663 | F11: 10115.696 | G11: 6.8 | H11: 8.5 | I11: 4.4
B12: Free Assistance and Donated Materials between Countries/International Organizations | C12: 국가/국제기구 간 무상 지원 및 기증 자재 | D12: 6.0248946 | E12: 5.4108993 | F12: 0.6139953 | G12: 293.8 | H12: 253.6 | I12: -
B13: Other Donated Materials | C13: 기타 기증 자재 | D13: 0.0371623 | E13: 0.02687714 | F13: 0.01028516 | G13: 500.6 | H13: 347.8 | I13: 5455.0
B14: Processing and Assembling Trade with Foreign-Supplied Materials | C14: 외국에서 공급하는 자재를 이용한 가공 및 조립 무역 | D14: 1131.8159 | E14: 520.44712 | F14: 611.3688 | G14: 22.2 | H14: 21.6 | I14: 22.7
B15: Processing Trade with Imported Materials | C15: 수입 자재를 이용한 가공 무역 | D15: 7233.0118 | E15: 4717.751 | F15: 2515.2608 | G15: 11.1 | H15: 9.3 | I15: 14.6
B16: Frontier Petty Trade | C16: 국경 소무역 | D16: 306.74011 | E16: 268.06075 | F16: 38.679365 | G16: -17.3 | H16: -20.1 | I16: 8.8
B17: Processing Trade Imported Equipment | C17: 수입 장비 가공 무역 | D17: 0.36322281 | E17: - | F17: 0.36322281 | G17: -8.8 | H17: - | I17: -8.8
B18: Exports for Overseas Contracted Projects | C18: 해외 계약 프로젝트 수출 | D18: 136.22787 | E18: 136.22787 | F18: - | G18: 101.6 | H18: 101.6 | I18: -
B19: Leasing Trade | C19: 리스 무역 | D19: 71.745742 | E19: 68.738698 | F19: 3.0070447 | G19: 24.3 | H19: 23.4 | I19: 48.5
B20: Imported Equipment/Articles Invested by Foreign-Funded Enterprises | C20: 외국인 투자 기업에서 투자한 수입 장비/물품 | D20: 6.2838925 | E20: - | F20: 6.2838925 | G20: -10.5 | H20: - | I20: -10.5
B21: Outward Processing Trade | C21: 역외 가공 무역 | D21: 36.654394 | E21: 13.67801 | F21: 22.976384 | G21: 118.0 | H21: 102.5 | I21: 128.4
B22: Duty-Free Foreign Exchange Commodities | C22: 면세 외환 상품 | D22: - | E22: - | F22: - | G22: - | H22: - | I22: -
B23: Duty-Free Goods | C23: 면세품 | D23: 11.406408 | E23: - | F23: 11.406408 | G23: 5.8 | H23: - | I23: 5.8
B24: Entry and Exit Goods in Bonded Control Areas | C24: 보세 관리 구역 내 반입 및 반출 물품 | D24: 1801.199 | E24: 478.87782 | F24: 1322.3212 | G24: -1.7 | H24: -27.9 | I24: 13.3
B25: Logistic Goods by Customs Special Control Areas | C25: 세관 특별 관리 구역 물류 물품 | D25: 3980.7272 | E25: 1769.4466 | F25: 2211.2806 | G25: 9.3 | H25: 14.1 | I25: 5.8
B26: Imported Equipment by Customs Special Control Areas | C26: 세관 특별 관리 구역 수입 장비 | D26: 45.316668 | E26: - | F26: 45.316668 | G26: 57.9 | H26: - | I26: 57.9
B27: Other | C27: 기타 | D27: 833.32758 | E27: 747.13449 | F27: 86.193094 | G27: 17.8 | H27: 16.8 | I27: 27.3
B28: Note: 1. From 2014, the customs statistics include "Duty-Free Goods".
B29: 2014년부터 세관 통계에는 "면세품"이 포함됩니다.
B30: 2. From 2018, "Compensation Trade", "Consignment Trade" and "Barter Trade" are included in "Other" item.
B31: 2018년부터 "보상무역", "위탁무역" 및 "물물교환무역"이 "기타" 항목에 포함됩니다.

Sheet 4
B5: (2) China's Total Export & Import Values by Trade Mode, Jul 2025 (in USD)
B6: 무역형태별 수출입 금액, 월간
B7: Unit: USD1 Million (백만 달러)
B8: Trade Mode | C8: 무역형태 | D8: 9 | G8: Year-on-Year (±%) 전년동월대비 백분율 변화
D9: Export & Import 수출입 | E9: Export 수출 | F9: Import 수입 | G9: Export & Import 수출입 | H9: Export 수출 | I9: Import 수입
B10: Total Value | C10: =VLOOKUP(B10,'3'!B:C,2,0) -> 총액 | D10: 566683.35 | E10: 328565.4 | F10: 238117.95 | G10: 7.9 | H10: 8.3 | I10: 7.4
B11: Ordinary Trade | C11: =VLOOKUP(B11,'3'!B:C,2,0) -> 일반 무역 | D11: 348048.05 | E11: 206302.74 | F11: 141745.3 | G11: 6.7 | H11: 8.5 | I11: 4.3
B12: Free Assistance and Donated Materials between Countries/International Organizations | C12: =VLOOKUP(B12,'3'!B:C,2,0) -> 국가/국제기구 간 무상 지원 및 기증 자재 | D12: 84.692261 | E12: 76.056183 | F12: 8.636078 | G12: 294.3 | H12: 254.1 | I12: -
B13: Other Donated Materials | C13: =VLOOKUP(B13,'3'!B:C,2,0) -> 기타 기증 자재 | D13: 0.521883 | E13: 0.377162 | F13: 0.144721 | G13: 500.7 | H13: 347.5 | I13: 5472.6
B14: Processing and Assembling Trade with Foreign-Supplied Materials | C14: =VLOOKUP(B14,'3'!B:C,2,0) -> 외국에서 공급하는 자재를 이용한 가공 및 조립 무역 | D14: 15856.48 | E14: 7291.0555 | F14: 8565.4247 | G14: 22.1 | H14: 21.4 | I14: 22.6
B15: Processing Trade with Imported Materials | C15: =VLOOKUP(B15,'3'!B:C,2,0) -> 수입 자재를 이용한 가공 무역 | D15: 101349.45 | E15: 66104.876 | F15: 35244.577 | G15: 11.0 | H15: 9.2 | I15: 14.5
B16: Frontier Petty Trade | C16: =VLOOKUP(B16,'3'!B:C,2,0) -> 국경 소무역 | D16: 4303.3325 | E16: 3759.6993 | F16: 543.63314 | G16: -17.3 | H16: -20.1 | I16: 8.9
B17: Processing Trade Imported Equipment | C17: =VLOOKUP(B17,'3'!B:C,2,0) -> 수입 장비 가공 무역 | D17: 5.089317 | E17: - | F17: 5.089317 | G17: -9.0 | H17: - | I17: -9.0
B18: Exports for Overseas Contracted Projects | C18: =VLOOKUP(B18,'3'!B:C,2,0) -> 해외 계약 프로젝트 수출 | D18: 1908.255 | E18: 1908.255 | F18: - | G18: 101.3 | H18: 101.3 | I18: -
B19: Leasing Trade | C19: =VLOOKUP(B19,'3'!B:C,2,0) -> 리스 무역 | D19: 1005.1142 | E19: 962.97468 | F19: 42.139494 | G19: 24.1 | H19: 23.2 | I19: 48.4
B20: Imported Equipment/Articles Invested by Foreign-Funded Enterprises | C20: =VLOOKUP(B20,'3'!B:C,2,0) -> 외국인 투자 기업에서 투자한 수입 장비/물품 | D20: 88.293616 | E20: - | F20: 88.293616 | G20: -10.1 | H20: - | I20: -10.1
B21: Outward Processing Trade | C21: =VLOOKUP(B21,'3'!B:C,2,0) -> 역외 가공 무역 | D21: 515.13171 | E21: 192.09501 | F21: 323.0367 | G21: 118.2 | H21: 102.5 | I21: 128.7
B22: Duty-Free Foreign Exchange Commodities | C22: =VLOOKUP(B22,'3'!B:C,2,0) -> 면세 외환 상품 | D22: - | E22: - | F22: - | G22: - | H22: - | I22: -
B23: Duty-Free Goods | C23: =VLOOKUP(B23,'3'!B:C,2,0) -> 면세품 | D23: 160.07217 | E23: - | F23: 160.07217 | G23: 5.9 | H23: - | I23: 5.9
B24: Entry and Exit Goods in Bonded Control Areas | C24: =VLOOKUP(B24,'3'!B:C,2,0) -> 보세 관리 구역 내 반입 및 반출 물품 | D24: 25245.793 | E24: 6707.2261 | F24: 18538.567 | G24: -1.7 | H24: -28.0 | I24: 13.3
B25: Logistic Goods by Customs Special Control Areas | C25: =VLOOKUP(B25,'3'!B:C,2,0) -> 세관 특별 관리 구역 물류 물품 | D25: 55806.848 | E25: 24796.781 | F25: 31010.066 | G25: 9.3 | H25: 14.0 | I25: 5.8
B26: Imported Equipment by Customs Special Control Areas | C26: =VLOOKUP(B26,'3'!B:C,2,0) -> 세관 특별 관리 구역 수입 장비 | D26: 635.45638 | E26: - | F26: 635.45638 | G26: 58.0 | H26: - | I26: 58.0
B27: Other | C27: =VLOOKUP(B27,'3'!B:C,2,0) -> 기타 | D27: 11670.77 | E27: 10463.258 | F27: 1207.5121 | G27: 17.6 | H27: 16.6 | I27: 27.2
B28: Note: 1. From 2014, the customs statistics include "Duty-Free Goods".
B29: =HLOOKUP(B28,'3'!28:29,2,0) -> 2014년부터 세관 통계에는 "면세품"이 포함됩니다.
B30: 2. From 2018, "Compensation Trade", "Consignment Trade" and "Barter Trade" are included in "Other" item.
B31: =HLOOKUP(B30,'3'!30:31,2,0) -> 2018년부터 "보상무역", "위탁무역" 및 "물물교환무역"이 "기타" 항목에 포함됩니다.

Sheet 5
B4: (3) China's Total Export & Import Values by Trade Mode, January-Sep 2025 (in CNY)
B5: 무역형태별 수출입 금액, 누계
B6: Unit: CNY 100 Million (일억 위안)
B7: Trade Mode | C7: 무역형태 | D7: 1-to-9 | G7: Year-on-Year (±%) 전년동기대비 백분율 변화
D8: Export & Import 수출입 | E8: Export 수출 | F8: Import 수입 | G8: Export & Import 수출입 | H8: Export 수출 | I8: Import 수입
B9: Total Value | C9: =VLOOKUP(B9,'3'!B:C,2,0) -> 총액 | D9: 336078.11 | E9: 199449.59 | F9: 136628.52 | G9: 4.0 | H9: 7.1 | I9: -0.2
B10: Ordinary Trade | C10: =VLOOKUP(B10,'3'!B:C,2,0) -> 일반 무역 | D10: 213764.94 | E10: 131008.84 | F10: 82756.094 | G10: 2.8 | H10: 7.4 | I10: -3.8
B11: Free Assistance and Donated Materials between Countries/International Organizations | C11: =VLOOKUP(B11,'3'!B:C,2,0) -> 국가/국제기구 간 무상 지원 및 기증 자재 | D11: 31.51497 | E11: 30.771193 | F11: 0.74377724 | G11: 2.2 | H11: 0.2 | I11: 432.0
B12: Other Donated Materials | C12: =VLOOKUP(B12,'3'!B:C,2,0) -> 기타 기증 자재 | D12: 2.3251309 | E12: 2.0470674 | F12: 0.27806347 | G12: 41.4 | H12: 210.8 | I12: -71.8
B13: Processing and Assembling Trade with Foreign-Supplied Materials | C13: =VLOOKUP(B13,'3'!B:C,2,0) -> 외국에서 공급하는 자재를 이용한 가공 및 조립 무역 | D13: 9221.401 | E13: 4182.6071 | F13: 5038.7939 | G13: 11.9 | H13: 13.7 | I13: 10.5
B14: Processing Trade with Imported Materials | C14: =VLOOKUP(B14,'3'!B:C,2,0) -> 수입 자재를 이용한 가공 무역 | D14: 52537.663 | E14: 33826.745 | F14: 18710.918 | G14: 6.1 | H14: 3.3 | I14: 11.5
B15: Frontier Petty Trade | C15: =VLOOKUP(B15,'3'!B:C,2,0) -> 국경 소무역 | D15: 2848.3568 | E15: 2546.4967 | F15: 301.86006 | G15: -8.4 | H15: -7.4 | I15: -16.1
B16: Processing Trade Imported Equipment | C16: =VLOOKUP(B16,'3'!B:C,2,0) -> 수입 장비 가공 무역 | D16: 3.5229159 | E16: - | F16: 3.5229159 | G16: -36.2 | H16: - | I16: -36.2
B17: Exports for Overseas Contracted Projects | C17: =VLOOKUP(B17,'3'!B:C,2,0) -> 해외 계약 프로젝트 수출 | D17: 966.20763 | E17: 966.20763 | F17: - | G17: 47.4 | H17: 47.4 | I17: -
B18: Leasing Trade | C18: =VLOOKUP(B18,'3'!B:C,2,0) -> 리스 무역 | D18: 395.33577 | E18: 314.19558 | F18: 81.140195 | G18: 16.6 | H18: 25.3 | I18: -8.2
B19: Imported Equipment/Articles Invested by Foreign-Funded Enterprises | C19: =VLOOKUP(B19,'3'!B:C,2,0) -> 외국인 투자 기업에서 투자한 수입 장비/물품 | D19: 31.956536 | E19: - | F19: 31.956536 | G19: -39.9 | H19: - | I19: -39.9
B20: Outward Processing Trade | C20: =VLOOKUP(B20,'3'!B:C,2,0) -> 역외 가공 무역 | D20: 256.11472 | E20: 103.57289 | F20: 152.54183 | G20: 89.7 | H20: 85.7 | I20: 92.6
B21: Duty-Free Foreign Exchange Commodities | C21: =VLOOKUP(B21,'3'!B:C,2,0) -> 면세 외환 상품 | D21: 0.0007701 | E21: - | F21: 0.0007701 | G21: -99.4 | H21: - | I21: -99.4
B22: Duty-Free Goods | C22: =VLOOKUP(B22,'3'!B:C,2,0) -> 면세품 | D22: 114.36448 | E22: - | F22: 114.36448 | G22: -20.7 | H22: - | I22: -20.7
B23: Entry and Exit Goods in Bonded Control Areas | C23: =VLOOKUP(B23,'3'!B:C,2,0) -> 보세 관리 구역 내 반입 및 반출 물품 | D23: 15568.324 | E23: 4556.3047 | F23: 11012.019 | G23: -0.8 | H23: 8.8 | I23: -4.3
B24: Logistic Goods by Customs Special Control Areas | C24: =VLOOKUP(B24,'3'!B:C,2,0) -> 세관 특별 관리 구역 물류 물품 | D24: 32434.552 | E24: 15135.405 | F24: 17299.147 | G24: 8.9 | H24: 12.3 | I24: 6.1
B25: Imported Equipment by Customs Special Control Areas | C25: =VLOOKUP(B25,'3'!B:C,2,0) -> 세관 특별 관리 구역 수입 장비 | D25: 391.3077 | E25: - | F25: 391.3077 | G25: 64.4 | H25: - | I25: 64.4
B26: Other | C26: =VLOOKUP(B26,'3'!B:C,2,0) -> 기타 | D26: 7510.2291 | E26: 6776.3968 | F26: 733.83233 | G26: 5.1 | H26: 5.9 | I26: -2.0
B27: Note: 1. From 2014, the customs statistics include "Duty-Free Goods".
B28: =HLOOKUP(B27,'3'!28:29,2,0) -> 2014년부터 세관 통계에는 "면세품"이 포함됩니다.
B29: 2. From 2018, "Compensation Trade", "Consignment Trade" and "Barter Trade" are included in "Other" item.
B30: =HLOOKUP(B29,'3'!30:31,2,0) -> 2018년부터 "보상무역", "위탁무역" 및 "물물교환무역"이 "기타" 항목에 포함됩니다.

Sheet 6
B5: (3) China's Total Export & Import Values by Trade Mode, January-Sep 2025 (in USD)
B6: 무역형태별 수출입 금액, 누계
B7: Unit: USD1 Million (백만 달러)
B8: Trade Mode | C8: 무역형태 | D8: 1-to-9 | G8: Year-on-Year (±%) 전년동기대비 백분율 변화
D9: Export & Import 수출입 | E9: Export 수출 | F9: Import 수입 | G9: Export & Import 수출입 | H9: Export 수출 | I9: Import 수입
B10: Total Value | C10: =VLOOKUP(B10,'5'!B:C,2,0) -> 총액 | D10: 4684189.2 | E10: 2779636.6 | F10: 1904552.6 | G10: 3.1 | H10: 6.1 | I10: -1.1
B11: Ordinary Trade | C11: =VLOOKUP(B11,'5'!B:C,2,0) -> 일반 무역 | D11: 2979368.3 | E11: 1825794.5 | F11: 1153573.7 | G11: 1.8 | H11: 6.4 | I11: -4.6
B12: Free Assistance and Donated Materials between Countries/International Organizations | C12: =VLOOKUP(B12,'5'!B:C,2,0) -> 국가/국제기구 간 무상 지원 및 기증 자재 | D12: 439.85665 | E12: 429.4232 | F12: 10.433455 | G12: 1.3 | H12: -0.6 | I12: 430.1
B13: Other Donated Materials | C13: =VLOOKUP(B13,'5'!B:C,2,0) -> 기타 기증 자재 | D13: 32.408123 | E13: 28.538344 | F13: 3.869779 | G13: 40.0 | H13: 207.7 | I13: -72.1
B14: Processing and Assembling Trade with Foreign-Supplied Materials | C14: =VLOOKUP(B14,'5'!B:C,2,0) -> 외국에서 공급하는 자재를 이용한 가공 및 조립 무역 | D14: 128510.81 | E14: 58286.344 | F14: 70224.463 | G14: 10.9 | H14: 12.6 | I14: 9.5
B15: Processing Trade with Imported Materials | C15: =VLOOKUP(B15,'5'!B:C,2,0) -> 수입 자재를 이용한 가공 무역 | D15: 732302.09 | E15: 471481.14 | F15: 260820.95 | G15: 5.1 | H15: 2.4 | I15: 10.6
B16: Frontier Petty Trade | C16: =VLOOKUP(B16,'5'!B:C,2,0) -> 국경 소무역 | D16: 39700.899 | E16: 35490.809 | F16: 4210.0899 | G16: -9.3 | H16: -8.3 | I16: -16.8
B17: Processing Trade Imported Equipment | C17: =VLOOKUP(B17,'5'!B:C,2,0) -> 수입 장비 가공 무역 | D17: 49.107453 | E17: - | F17: 49.107453 | G17: -36.9 | H17: - | I17: -36.9
B18: Exports for Overseas Contracted Projects | C18: =VLOOKUP(B18,'5'!B:C,2,0) -> 해외 계약 프로젝트 수출 | D18: 13468.204 | E18: 13468.204 | F18: - | G18: 46.1 | H18: 46.1 | I18: -
B19: Leasing Trade | C19: =VLOOKUP(B19,'5'!B:C,2,0) -> 리스 무역 | D19: 5512.0433 | E19: 4381.1739 | F19: 1130.8694 | G19: 15.6 | H19: 24.2 | I19: -9.0
B20: Imported Equipment/Articles Invested by Foreign-Funded Enterprises | C20: =VLOOKUP(B20,'5'!B:C,2,0) -> 외국인 투자 기업에서 투자한 수입 장비/물품 | D20: 445.60045 | E20: - | F20: 445.60045 | G20: -40.3 | H20: - | I20: -40.3
B21: Outward Processing Trade | C21: =VLOOKUP(B21,'5'!B:C,2,0) -> 역외 가공 무역 | D21: 3573.3899 | E21: 1444.5124 | F21: 2128.8775 | G21: 88.3 | H21: 84.1 | I21: 91.2
B22: Duty-Free Foreign Exchange Commodities | C22: =VLOOKUP(B22,'5'!B:C,2,0) -> 면세 외환 상품 | D22: 0.01068 | E22: - | F22: 0.01068 | G22: -99.4 | H22: - | I22: -99.4
B23: Duty-Free Goods | C23: =VLOOKUP(B23,'5'!B:C,2,0) -> 면세품 | D23: 1593.771 | E23: - | F23: 1593.771 | G23: -21.5 | H23: - | I23: -21.5
B24: Entry and Exit Goods in Bonded Control Areas | C24: =VLOOKUP(B24,'5'!B:C,2,0) -> 보세 관리 구역 내 반입 및 반출 물품 | D24: 216980.01 | E24: 63487.078 | F24: 153492.93 | G24: -1.7 | H24: 7.9 | I24: -5.2
B25: Logistic Goods by Customs Special Control Areas | C25: =VLOOKUP(B25,'5'!B:C,2,0) -> 세관 특별 관리 구역 물류 물품 | D25: 452127.13 | E25: 210947.3 | F25: 241179.82 | G25: 7.9 | H25: 11.3 | I25: 5.1
B26: Imported Equipment by Customs Special Control Areas | C26: =VLOOKUP(B26,'5'!B:C,2,0) -> 세관 특별 관리 구역 수입 장비 | D26: 5457.252 | E26: - | F26: 5457.252 | G26: 63.1 | H26: - | I26: 63.1
B27: Other | C27: =VLOOKUP(B27,'5'!B:C,2,0) -> 기타 | D27: 104628.37 | E27: 94397.573 | F27: 10230.792 | G27: 4.1 | H27: 4.9 | I27: -2.8
B28: Note: 1. From 2014, the customs statistics include "Duty-Free Goods".
B29: =HLOOKUP(B28,'5'!27:28,2,0) -> 2014년부터 세관 통계에는 "면세품"이 포함됩니다.
B30: 2. From 2018, "Compensation Trade", "Consignment Trade" and "Barter Trade" are included in "Other" item.
B31: =HLOOKUP(B30,'5'!29:30,2,0) -> 2018년부터 "보상무역", "위탁무역" 및 "물물교환무역"이 "기타" 항목에 포함됩니다.

Sheet 7
B5: (4) China's Total Export & Import Values by Country/Region, Sep 2025 (in CNY)
B6: 국가·지역별 수출입 금액
B7: Unit: CNY 100 Million (일억 위안)
B8: Import Source 수입 원산지 | C8: Export & Import 수출입 | D8: Export & Import 수출입 | E8: Export 수출 | F8: Export 수출 | G8: Import 수입 | H8: Import 수입 | I8: 1-to-9 Total Year-on-Year (±%) 전년동기대비 백분율 변화
B9: Export Destination 수출 도착지 | C9: 9 | D9: 1- to-9 | E9: 9 | F9: 1-to-9 | G9: 9 | H9: 1-to-9 | I9: Export & Import 수출입 | J9: Export 수출 | K9: Import 수입
B10: Total | C10: 40436.242 | D10: 336078.11 | E10: 23445.464 | F10: 199449.59 | G10: 16990.778 | H10: 136628.52 | I10: 4.0 | J10: 7.1 | K10: -0.2
B11: European Union | C11: 5223.5502 | D11: 44055.655 | E11: 3426.7897 | F11: 29920.733 | G11: 1796.7605 | H11: 14134.922 | I11: 5.2 | J11: 9.2 | K11: -2.4
B12: of which: Germany | C12: 1313.6477 | D12: 11265.334 | E12: 711.72949 | F12: 6314.7861 | G12: 601.91824 | H12: 4950.5476 | I12: 4.6 | J12: 11.5 | K12: -3.0
B13: Netherlands | C13: 745.56531 | D13: 6035.9256 | E13: 587.17644 | F13: 5047.0737 | G13: 158.38887 | H13: 988.85189 | I13: 3.4 | J13: 4.1 | K13: -0.3
B14: France | C14: 558.05671 | D14: 4451.0604 | E14: 289.48466 | F14: 2587.6679 | G14: 268.57205 | H14: 1863.3926 | I14: 5.0 | J14: 8.4 | K14: 0.7
B15: Italy | C15: 471.26173 | D15: 4000.2299 | E15: 318.68185 | F15: 2694.0738 | G15: 152.57988 | H15: 1306.1561 | I15: 3.6 | J15: 9.8 | K15: -7.2
B16: United States (US) | C16: 3268.4068 | D16: 30559.97 | E16: 2448.8398 | F16: 22767.739 | G16: 819.56694 | H16: 7792.2311 | I16: -14.9 | J16: -16.2 | K16: -10.8
B17: ASEAN | C17: 6433.2832 | D17: 55735.094 | E17: 3828.7854 | F17: 34987.963 | G17: 2604.4978 | H17: 20747.131 | I17: 9.6 | J17: 15.8 | K17: 0.5
B18: of which: Vietnam | C18: 1930.6898 | D18: 15393.37 | E18: 1192.7561 | F18: 10356.942 | G18: 737.93369 | H18: 5036.4276 | I18: 13.8 | J18: 23.4 | K18: -1.9
B19: Malaysia | C19: 1020.6652 | D19: 10485.272 | E19: 575.9193 | F19: 5488.8266 | G19: 444.74594 | H19: 4996.4452 | I19: -4.1 | J19: 6.1 | K19: -13.2
B20: Thailand | C20: 876.16977 | D20: 8204.7507 | E20: 584.97908 | F20: 5447.4027 | G20: 291.19069 | H20: 2757.348 | I20: 18.0 | J20: 23.6 | K20: 8.4
B21: Singapore | C21: 728.46517 | D21: 6308.2236 | E21: 446.08679 | F21: 4398.5551 | G21: 282.37838 | H21: 1909.6685 | I21: 8.8 | J21: 6.9 | K21: 13.6
... B39: Jointly build the countries along Belt and Road Routes | C39: 20720.577 | D39: 173696.26 | E39: 11777.29 | F39: 100713.27 | G39: 8943.2867 | H39: 72982.988 | I39: 6.2 | J39: 12.4 | K39: -1.4
B40: Note: 1.The Association of Southeast Asian Nations (ASEAN) includes: Brunei, Myanmar, Cambodia, Indonesia, Laos, Malaysia, Philippines, Singapore, Thailand, Vietnam; 2.The European Union (EU) includes: Belgium, Denmark, Germany, France, Ireland, Italy, Luxembourg, Netherlands, Greece, Portugal, Spain, Austria, Finland, Sweden, Cyprus, Hungary, Malta, Poland, Estonia, Latvia, Lithuania, Slovenia, Czech Republic, Slovakia, Bulgaria, Romania, Croatia; 3. APEC includes Brunei, Hong Kong, Indonesia, Japan, Malaysia, the Philippines, Singapore, South Korea, Thailand, Vietnam, China, Taiwan, China, Russia, Chile, Mexico, Peru, Canada, the United States, Australia, New Zealand and Papua New Guinea. 4. The Regional Comprehensive Economic Partnership (RCEP) includes Brunei, Myanmar, Cambodia, Indonesia, Laos, Malaysia, the Philippines, Singapore, Thailand, Vietnam, Japan, South Korea, Australia, and New Zealand. 5. Jointly build the the Belt and Road countries: from the "China Belt and Road Network"（ https://www.yidaiyilu.gov.cn ）Listed countries and regions

Sheet 8
B5: (4) China's Total Export & Import Values by Country/Region, Sep 2025 (in USD)
B6: 국가·지역별 수출입 금액
B7: Unit: USD1 Million (백만 달러)
B8: Import Source 수입 원산지 | C8: Export & Import 수출입 | D8: Export & Import 수출입 | E8: Export 수출 | F8: Export 수출 | G8: Import 수입 | H8: Import 수입 | I8: 1-to-9 Total Year-on-Year (±%) 전년동기대비 백분율 변화
B9: Export Destination 수출 도착지 | C9: 9 | D9: 1- to-9 | E9: 9 | F9: 1-to-9 | G9: 9 | H9: 1-to-9 | I9: Export & Import 수출입 | J9: Export 수출 | K9: Import 수입
B10: Total | C10: 566683.35 | D10: 4684189.2 | E10: 328565.4 | F10: 2779636.6 | G10: 238117.95 | H10: 1904552.6 | I10: 3.1 | J10: 6.1 | K10: -1.1
B11: European Union | C11: 73194.61 | D11: 614198.04 | E11: 48023.846 | F11: 417043.54 | G11: 25170.765 | H11: 197154.5 | I11: 4.3 | J11: 8.2 | K11: -3.2
B12: of which: Germany | C12: 18407.262 | D12: 157071.29 | E12: 9976.8167 | F12: 88023.757 | G12: 8430.4455 | H12: 69047.533 | I12: 3.8 | J12: 10.5 | K12: -3.8
B13: Netherlands | C13: 10443.736 | D13: 84139.194 | E13: 8226.3641 | F13: 70340.027 | G13: 2217.3715 | H13: 13799.167 | I13: 2.5 | J13: 3.2 | K13: -1.0
B14: France | C14: 7821.6862 | D14: 62060.041 | E14: 4058.896 | F14: 36068.602 | G14: 3762.7901 | H14: 25991.439 | I14: 4.2 | J14: 7.5 | K14: -0.1
B15: Italy | C15: 6605.5561 | D15: 55773.04 | E15: 4464.87 | F15: 37549.783 | G15: 2140.6861 | H15: 18223.257 | I15: 2.7 | J15: 8.9 | K15: -7.9
B16: United States (US) | C16: 45792.338 | D16: 425816.05 | E16: 34307.637 | F16: 317224.47 | G16: 11484.701 | H16: 108591.58 | I16: -15.6 | J16: -16.9 | K16: -11.6
B17: ASEAN | C17: 90169.877 | D17: 776784.66 | E17: 53660.722 | F17: 487592.04 | G17: 36509.154 | H17: 289192.62 | I17: 8.6 | J17: 14.7 | K17: -0.4
B18: of which: Vietnam | C18: 27054.602 | D18: 214552.09 | E18: 16713.245 | F18: 144337.05 | G18: 10341.356 | H18: 70215.041 | I18: 12.8 | J18: 22.3 | K18: -2.7
B19: Malaysia | C19: 14307.432 | D19: 146113.53 | E19: 8071.7855 | F19: 76488.258 | G19: 6235.647 | H19: 69625.273 | I19: -4.9 | J19: 5.2 | K19: -14.0
B20: Thailand | C20: 12281.29 | D20: 114338.01 | E20: 8200.2154 | F20: 75914.848 | G20: 4081.0743 | H20: 38423.158 | I20: 17.0 | J20: 22.5 | K20: 7.4
B21: Singapore | C21: 10206.178 | D21: 87912.419 | E21: 6250.3826 | F21: 61294.971 | G21: 3955.7956 | H21: 26617.448 | I21: 7.8 | J21: 5.9 | K21: 12.6
... B39: Jointly build the countries along Belt and Road Routes | C39: 290391.53 | D39: 2420849.2 | E39: 165050.11 | F39: 1403591 | G39: 125341.42 | H39: 1017258.2 | I39: 5.2 | J39: 11.4 | K39: -2.3
B40: Note: 1.The Association of Southeast Asian Nations (ASEAN) includes: Brunei, Myanmar, Cambodia, Indonesia, Laos, Malaysia, Philippines, Singapore, Thailand, Vietnam; 2.The European Union (EU) includes: Belgium, Denmark, Germany, France, Ireland, Italy, Luxembourg, Netherlands, Greece, Portugal, Spain, Austria, Finland, Sweden, Cyprus, Hungary, Malta, Poland, Estonia, Latvia, Lithuania, Slovenia, Czech Republic, Slovakia, Bulgaria, Romania, Croatia; 3. APEC includes Brunei, Hong Kong, Indonesia, Japan, Malaysia, the Philippines, Singapore, South Korea, Thailand, Vietnam, China, Taiwan, China, Russia, Chile, Mexico, Peru, Canada, the United States, Australia, New Zealand and Papua New Guinea. 4. The Regional Comprehensive Economic Partnership (RCEP) includes Brunei, Myanmar, Cambodia, Indonesia, Laos, Malaysia, the Philippines, Singapore, Thailand, Vietnam, Japan, South Korea, Australia, and New Zealand. 5. Jointly build the the Belt and Road countries: from the "China Belt and Road Network"（ https://www.yidaiyilu.gov.cn ）Listed countries and regions

Sheet 9
B7: (5) China's Major Exports by Quantity and Value, Sep 2025 (in CNY)
B8: 주요 수출품 수출 물량 및 금액
B9: Unit: CNY 100 Million (일억 위안)
B10: Commodity | C10: 상품 | D10: Quantity Unit 물량 단위 | E10: 9 | G10: 1-9 Total | I10: 1-9 Total, 2024 | K10: 1-9 Total, Year-On-Year(%) 전년동기대비 백분율 변화
E11: Quantity 물량 | F11: Value 금액 | G11: Quantity 물량 | H11: Value 금액 | I11: Quantity 물량 | J11: Value 금액 | K11: Quantity 물량 | L11: Value 금액
B12: Agricultural products* | C12: 농산물* | D12: — | E12: - | F12: 619.74329 | G12: - | H12: 5345.0153 | I12: - | J12: 5223.3265 | K12: - | L12: 2.3
B13: Aquatic products | C13: 수산물 | D13: 10,000 Tons | E13: 39.498824 | F13: 119.49006 | G13: 323.31166 | H13: 1060.7114 | I13: 292.98014 | J13: 1014.3825 | K13: 10.4 | L13: 4.6
B14: Grain | C14: 곡물 | D14: 10,000 Tons | E14: 32.002559 | F14: 10.564055 | G14: 211.70738 | H14: 88.254199 | I14: 154.2528 | J14: 71.645168 | K14: 37.2 | L14: 23.2
B15: Petroleum products | C15: 석유 제품 | D15: 10,000 Tons | E15: 514.07222 | F15: 239.52807 | G15: 4300.4127 | H15: 2021.2592 | I15: 4519.6604 | J15: 2348.3157 | K15: -4.9 | L15: -13.9
B16: Rare earth | C16: 희토류 | D16: Ton | E16: 4000.327 | F16: 4.2522225 | G16: 48355.744 | H16: 24.54871 | I16: 42936.012 | J16: 26.397752 | K16: 12.6 | L16: -7.0
B17: Medicinal materials and medicaments of Chinese type | C17: 중국산 의약물질 및 의약품 | D17: Ton | E17: 12434.193 | F17: 7.7292239 | G17: 101119.53 | H17: 63.667723 | I17: 99834.202 | J17: 69.950764 | K17: 1.3 | L17: -9.0
B18: Fertilizers | C18: 비료 | D18: 10,000 Tons | E18: 543.84656 | F18: 132.5538 | G18: 3336.2745 | H18: 709.26428 | I18: 2294.3205 | J18: 440.67158 | K18: 45.4 | L18: 61.0
B19: Plastic products | C19: 플라스틱 제품 | D19: - | E19: - | F19: 591.88871 | G19: - | H19: 5595.3825 | I19: - | J19: 5545.9167 | K19: - | L19: 0.9
B20: Suitcases, handbags and similar containers | C20: 여행 가방, 핸드백 및 유사 제품 | D20: 10,000 Tons | E20: 29.631404 | F20: 154.66829 | G20: 276.94359 | H20: 1635.7296 | I20: 268.09435 | J20: 1831.5689 | K20: 3.3 | L20: -10.7
B21: Textile yarn, fabrics and articles thereof | C21: 방직용 원사, 직물 및 관련 제품 | D21: - | E21: - | F21: 854.15675 | G21: - | H21: 7641.4643 | I21: - | J21: 7415.8078 | K21: - | L21: 3.0
B22: Garments and clothing accessories | C22: 의류 및 의류 액세서리 | D22: - | E22: - | F22: 888.87583 | G22: - | H22: 8268.4933 | I22: - | J22: 8399.0654 | K22: - | L22: -1.6
B23: Footwear | C23: 신발 | D23: 10,000 Pairs | E23: 6.8284874 | F23: 205.51825 | G23: 67.561612 | H23: 2286.1034 | I23: 68.40126 | J23: 2487.6824 | K23: -1.2 | L23: -8.1
B24: Ceramic products | C24: 도자기 제품 | D24: 10,000 Tons | E24: 156.03471 | F24: 105.18016 | G24: 1428.2862 | H24: 1147.7341 | I24: 1417.2539 | J24: 1128.4086 | K24: 0.8 | L24: 1.7
B25: Steel products | C25: 철강 제품 | D25: 10,000 Tons | E25: 1046.5011 | F25: 507.39885 | G25: 8795.5092 | H25: 4397.5635 | I25: 8055.2805 | J25: 4410.8144 | K25: 9.2 | L25: -0.3
B26: Unwrought aluminium and aluminium products | C26: 알루미늄 및 관련 가공 제품 | D26: Ton | E26: 52.067344 | F26: 129.52929 | G26: 451.63792 | H26: 1121.3097 | I26: 491.29289 | J26: 1154.0552 | K26: -8.1 | L26: -2.8
B27: Furniture and parts thereof | C27: 가구 및 관련 부품 | D27: - | E27: - | F27: 333.74255 | G27: - | H27: 3383.9792 | I27: - | J27: 3521.29 | K27: - | L27: -3.9
B28: Toys | C28: 장난감 | D28: - | E28: - | F28: 208.75053 | G28: - | H28: 1957.3559 | I28: - | J28: 2116.0386 | K28: - | L28: -7.5
B29: Mechanical and electrical products* | C29: 기계 및 전기 제품* | D29: - | E29: - | F29: 14819.739 | G29: - | H29: 120747.08 | I29: - | J29: 110208 | K29: - | L29: 9.6
B30: General machinery | C30: 일반 기계 | D30: - | E30: - | F30: 419.9873 | G30: - | H30: 3690.291 | I30: - | J30: 3377.8857 | K30: - | L30: 9.2
B31: Automatic data processing equipment and parts thereof | C31: 자동 데이터 처리 장비 및 관련 부품 | D31: - | E31: - | F31: 1294.4364 | G31: - | H31: 10753.066 | I31: - | J31: 10708.843 | K31: - | L31: 0.4
B32: Mobile phones | C32: 휴대폰 | D32: 10,000 Sets | E32: 7493.0382 | F32: 1060.7114 | G32: 53733.346 | H32: 5659.064 | I32: 57975.675 | J32: 6221.7556 | K32: -7.3 | L32: -9.0
B33: Household appliances | C33: 가전제품 | D33: 10,000 Sets | E33: 36656.285 | F33: 551.5996 | G33: 335999.07 | H33: 5274.8476 | I33: 333332.59 | J33: 5344.6664 | K33: 0.8 | L33: -1.3
B34: Audio or video devices and parts thereof | C34: 오디오와 비디오 장치 및 관련 부품 | D34: - | E34: - | F34: 255.23505 | G34: - | H34: 2086.3488 | I34: - | J34: 1954.3622 | K34: - | L34: 6.8
B35: Integrated circuits | C35: 집적 회로 | D35: 100 Million PCS | E35: 323.2249 | F35: 1359.5776 | G35: 2652.617 | H35: 10406.092 | I35: 2204.8587 | J35: 8362.8948 | K35: 20.3 | L35: 24.4
B36: Motor vehicles（including chassis fitted with engines) | C36: 자동차; 엔진이 장착된 섀시 포함 | D36: 10,000 Autos | E36: 75.633 | F36: 912.66708 | G36: 568.42 | H36: 6965.0309 | I36: 469.8454 | J36: 6230.8548 | K36: 21.0 | L36: 11.8
B37: Automotive components and parts | C37: 자동차 부품 | D37: - | E37: - | F37: 560.59928 | G37: - | H37: 5185.8026 | I37: - | J37: 4913.8146 | K37: - | L37: 5.5
B38: Ships | C38: 선박 | D38: Ship | E38: 543 | F38: 470.37397 | G38: 5226 | H38: 2879.4971 | I38: 4232 | J38: 2351.9983 | K38: 23.5 | L38: 22.4
B39: LCD panels | C39: LCD 패널 | D39: 10,000 PCS | E39: 18191.357 | F39: 196.71584 | G39: 156412.01 | H39: 1729.934 | I39: 140564.52 | J39: 1563.5147 | K39: 11.3 | L39: 10.6
B40: Medical or surgical instruments and apparatuses | C40: 의료 또는 수술용 기기 | D40: - | E40: - | F40: 130.40877 | G40: - | H40: 1090.9682 | I40: - | J40: 1010.846 | K40: - | L40: 7.9
B41: Lamps and light fittings and parts thereof | C41: 램프 및 조명기구와 관련 부품 | D41: - | E41: - | F41: 188.11242 | G41: - | H41: 2028.2888 | I41: - | J41: 2190.9518 | K41: - | L41: -7.4
B42: Hi-tech products* | C42: 첨단 제품 | D42: - | E42: - | F42: 6412.005 | G42: - | H42: 49039.672 | I42: - | J42: 45396.599 | K42: - | L42: 8.0
B43: Note: "Agricultural products*", “Mechanical and electrical products*" and "Hi-tech products*" include relevant products listed in the table.
B44: 농산물, 기계 및 전기 제품 및 첨단 제품 행에는 표에 있는 관련 제품을 포함합니다.

Sheet 10
B7: (5) China's Major Exports by Quantity and Value,Sep 2025 (in USD)
B8: 주요 수출품 수출 물량 및 금액
B9: Unit: USD1 Million (백만 달러)
B10: Commodity | C10: 상품 | D10: Quantity Unit 물량 단위 | E10: 9 | G10: 1-9 Total | I10: 1-9 Total,2024 | K10: 1-9 Total, Year-On-Year(%) 전년동기대비 백분율 변화
E11: Quantity 물량 | F11: Value 금액 | G11: Quantity 물량 | H11: Value 금액 | I11: Quantity 물량 | J11: Value 금액 | K11: Quantity 물량 | L11: Value 금액
B12: Agricultural products* | C12: =VLOOKUP(B12,'9'!B:C,2,0) -> 농산물* | D12: — | E12: - | F12: 8687.5302 | G12: - | H12: 74492.303 | I12: - | J12: 73456.113 | K12: - | L12: 1.4
B13: Aquatic products | C13: =VLOOKUP(B13,'9'!B:C,2,0) -> 수산물 | D13: 10,000 Tons | E13: 39.498824 | F13: 1674.349 | G13: 323.31166 | H13: 14781.239 | I13: 292.98014 | J13: 14265.74 | K13: 10.4 | L13: 3.6
B14: Grain | C14: =VLOOKUP(B14,'9'!B:C,2,0) -> 곡물 | D14: 10,000 Tons | E14: 32.002559 | F14: 147.94647 | G14: 211.70738 | H14: 1229.5865 | I14: 154.2528 | J14: 1006.9925 | K14: 37.2 | L14: 22.1
B15: Petroleum products | C15: =VLOOKUP(B15,'9'!B:C,2,0) -> 석유 제품 | D15: 10,000 Tons | E15: 514.07222 | F15: 3352.7501 | G15: 4300.4127 | H15: 28167.277 | I15: 4519.6604 | J15: 33016.429 | K15: -4.9 | L15: -14.7
B16: Rare earth | C16: =VLOOKUP(B16,'9'!B:C,2,0) -> 희토류 | D16: Ton | E16: 4000.327 | F16: 59.58882 | G16: 48355.744 | H16: 342.32796 | I16: 42936.012 | J16: 371.45998 | K16: 12.6 | L16: -7.8
B17: Medicinal materials and medicaments of Chinese type | C17: =VLOOKUP(B17,'9'!B:C,2,0) -> 중국산 의약물질 및 의약품 | D17: Ton | E17: 12434.193 | F17: 108.51776 | G17: 101119.53 | H17: 887.64696 | I17: 99834.202 | J17: 983.98829 | K17: 1.3 | L17: -9.8
B18: Fertilizers | C18: =VLOOKUP(B18,'9'!B:C,2,0) -> 비료 | D18: 10,000 Tons | E18: 543.84656 | F18: 1855.6606 | G18: 3336.2745 | H18: 9887.6554 | I18: 2294.3205 | J18: 6193.6497 | K18: 45.4 | L18: 59.6
B19: Plastic products | C19: =VLOOKUP(B19,'9'!B:C,2,0) -> 플라스틱 제품 | D19: - | E19: - | F19: 8292.9951 | G19: - | H19: 77964.134 | I19: - | J19: 77994.553 | K19: - | L19: 0.0
B20: Suitcases, handbags and similar containers | C20: =VLOOKUP(B20,'9'!B:C,2,0) -> 여행 가방, 핸드백 및 유사 제품 | D20: 10,000 Tons | E20: 29.631404 | F20: 2166.7591 | G20: 276.94359 | H20: 22786.56 | I20: 268.09435 | J20: 25760.337 | K20: 3.3 | L20: -11.5
B21: Textile yarn, fabrics and articles thereof | C21: =VLOOKUP(B21,'9'!B:C,2,0) -> 방직용 원사, 직물 및 관련 제품 | D21: - | E21: - | F21: 11966.516 | G21: - | H21: 106477.4 | I21: - | J21: 104285.22 | K21: - | L21: 2.1
B22: Garments and clothing accessories | C22: =VLOOKUP(B22,'9'!B:C,2,0) -> 의류 및 의류 액세서리 | D22: - | E22: - | F22: 12453.247 | G22: - | H22: 115208.87 | I22: - | J22: 118102.43 | K22: - | L22: -2.5
B23: Footwear | C23: =VLOOKUP(B23,'9'!B:C,2,0) -> 신발 | D23: 10,000 Pairs | E23: 6.8284874 | F23: 2879.5066 | G23: 67.561612 | H23: 31847.605 | I23: 68.40126 | J23: 34984.501 | K23: -1.2 | L23: -9.0
B24: Ceramic products | C24: =VLOOKUP(B24,'9'!B:C,2,0) -> 도자기 제품 | D24: 10,000 Tons | E24: 156.03471 | F24: 1473.7498 | G24: 1428.2862 | H24: 15989.097 | I24: 1417.2539 | J24: 15870.027 | K24: 0.8 | L24: 0.8
B25: Steel products | C25: =VLOOKUP(B25,'9'!B:C,2,0) -> 철강 제품 | D25: 10,000 Tons | E25: 1046.5011 | F25: 7106.7103 | G25: 8795.5092 | H25: 61274.826 | I25: 8055.2805 | J25: 62022.948 | K25: 9.2 | L25: -1.2
B26: Unwrought aluminium and aluminium products | C26: =VLOOKUP(B26,'9'!B:C,2,0) -> 알루미늄 및 관련 가공 제품 | D26: Ton | E26: 52.067344 | F26: 1814.7503 | G26: 451.63792 | H26: 15626.129 | I26: 491.29289 | J26: 16227.885 | K26: -8.1 | L26: -3.7
B27: Furniture and parts thereof | C27: =VLOOKUP(B27,'9'!B:C,2,0) -> 가구 및 관련 부품 | D27: - | E27: - | F27: 4676.8781 | G27: - | H27: 47147.436 | I27: - | J27: 49526.638 | K27: - | L27: -4.8
B28: Toys | C28: =VLOOKUP(B28,'9'!B:C,2,0) -> 장난감 | D28: - | E28: - | F28: 2925.2321 | G28: - | H28: 27271.933 | I28: - | J28: 29750.991 | K28: - | L28: -8.3
B29: Mechanical and electrical products* | C29: =VLOOKUP(B29,'9'!B:C,2,0) -> 기계 및 전기 제품* | D29: - | E29: - | F29: 207703.85 | G29: - | H29: 1682939.2 | I29: - | J29: 1549782.4 | K29: - | L29: 8.6
B30: General machinery | C30: =VLOOKUP(B30,'9'!B:C,2,0) -> 일반 기계 | D30: - | E30: - | F30: 5884.8285 | G30: - | H30: 51427.925 | I30: - | J30: 47503.495 | K30: - | L30: 8.3
B31: Automatic data processing equipment and parts thereof | C31: =VLOOKUP(B31,'9'!B:C,2,0) -> 자동 데이터 처리 장비 및 관련 부품 | D31: - | E31: - | F31: 18134.232 | G31: - | H31: 149840.41 | I31: - | J31: 150579.32 | K31: - | L31: -0.5
B32: Mobile phones | C32: =VLOOKUP(B32,'9'!B:C,2,0) -> 휴대폰 | D32: 10,000 Sets | E32: 7493.0382 | F32: 14867.074 | G32: 53733.346 | H32: 78904.348 | I32: 57975.675 | J32: 87489.434 | K32: -7.3 | L32: -9.8
B33: Household appliances | C33: =VLOOKUP(B33,'9'!B:C,2,0) -> 가전제품 | D33: 10,000 Sets | E33: 36656.285 | F33: 7730.2377 | G33: 335999.07 | H33: 73508.804 | I33: 333332.59 | J33: 75159.944 | K33: 0.8 | L33: -2.2
B34: Audio or video devices and parts thereof | C34: =VLOOKUP(B34,'9'!B:C,2,0) -> 오디오와 비디오 장치 및 관련 부품 | D34: - | E34: - | F34: 3576.8414 | G34: - | H34: 29078.115 | I34: - | J34: 27482.128 | K34: - | L34: 5.8
B35: Integrated circuits | C35: =VLOOKUP(B35,'9'!B:C,2,0) -> 집적 회로 | D35: 100 Million PCS | E35: 323.2249 | F35: 19047.053 | G35: 2652.617 | H35: 145025.81 | I35: 2204.8587 | J35: 117601.27 | K35: 20.3 | L35: 23.3
B36: Motor vehicles（including chassis fitted with engines) | C36: =VLOOKUP(B36,'9'!B:C,2,0) -> 자동차; 엔진이 장착된 섀시 포함 | D36: 10,000 Autos | E36: 75.633 | F36: 12807.967 | G36: 568.42 | H36: 97122.823 | I36: 469.8454 | J36: 87622.874 | K36: 21.0 | L36: 10.8
B37: Automotive components and parts | C37: =VLOOKUP(B37,'9'!B:C,2,0) -> 자동차 부품 | D37: - | E37: - | F37: 7857.5616 | G37: - | H37: 72276.862 | I37: - | J37: 69104.002 | K37: - | L37: 4.6
B38: Ships | C38: =VLOOKUP(B38,'9'!B:C,2,0) -> 선박 | D38: Ship | E38: 543 | F38: 6589.6429 | G38: 5226 | H38: 40140.42 | I38: 4232 | J38: 33073.749 | K38: 23.5 | L38: 21.4
B39: LCD panels | C39: =VLOOKUP(B39,'9'!B:C,2,0) -> LCD 패널 | D39: 10,000 PCS | E39: 18191.357 | F39: 2755.6638 | G39: 156412.01 | H39: 24106.241 | I39: 140564.52 | J39: 21985.463 | K39: 11.3 | L39: 9.6
B40: Medical or surgical instruments and apparatuses | C40: =VLOOKUP(B40,'9'!B:C,2,0) -> 의료 또는 수술용 기기 | D40: - | E40: - | F40: 1827.5986 | G40: - | H40: 15205.065 | I40: - | J40: 14214.547 | K40: - | L40: 7.0
B41: Lamps and light fittings and parts thereof | C41: =VLOOKUP(B41,'9'!B:C,2,0) -> 램프 및 조명기구와 관련 부품 | D41: - | E41: - | F41: 2635.5401 | G41: - | H41: 28256.479 | I41: - | J41: 30811.526 | K41: - | L41: -8.3
B42: Hi-tech products* | C42: =VLOOKUP(B42,'9'!B:C,2,0) -> 첨단 제품 | D42: - | E42: - | F42: 89849.942 | G42: - | H42: 683488.14 | I42: - | J42: 638369.26 | K42: - | L42: 7.1
B43: Note: "Agricultural products*", “Mechanical and electrical products*" and "Hi-tech products*" include relevant products listed in the table.
B44: =HLOOKUP(B43,'9'!43:44,2,0) -> 농산물, 기계 및 전기 제품 및 첨단 제품 행에는 표에 있는 관련 제품을 포함합니다.

Sheet 11
B9: (6) China's Major Imports by Quantity and Value, Sep 2025 (in CNY)
B10: 주요 수입품 수입 물량 및 금액
B11: Unit: CNY 100 Million (일억 위안)
B12: Commodity | C12: 상품 | D12: QTY Unit 물량 단위 | E12: 9 | G12: 1-9 Total | I12: 1-9 Total, 2024 | K12: 1-9 Total Year-On-Year(%) 전년동기대비 백분율 변화
E13: Quantity 물량 | F13: Value 금액 | G13: Quantity 물량 | H13: Value 금액 | I13: Quantity 물량 | J13: Value 금액 | K13: Quantity 물량 | L13: Value 금액
B14: Agricultural products* | C14: 농산물* | D14: - | E14: - | F14: 1403.9399 | G14: - | H14: 11161.999 | I14: - | J14: 11748.176 | K14: - | L14: -5.0
B15: Meat (incl. entrails) | C15: 육류; 내장 포함 | D15: 10,000 Tons | E15: 54.401963 | F15: 163.62456 | G15: 478.51105 | H15: 1285.6207 | I15: 493.94208 | J15: 1220.8821 | K15: -3.1 | L15: 5.3
B16: Fresh or Dried Fruits and Nuts | C16: 신선 또는 건조 과일류 및 견과류 | D16: 10,000 Tons | E16: 82.643535 | F16: 130.97986 | G16: 716.58325 | H16: 1090.7644 | I16: 622.70065 | J16: 1082.4865 | K16: 15.1 | L16: 0.8
B17: Grain | C17: 곡물 | D17: 10,000 Tons | E17: 1582.612 | F17: 476.797 | G17: 10672.847 | H17: 3234.2374 | I17: 12705.333 | J17: 3942.4882 | K17: -16.0 | L17: -18.0
B18: Soybeans | C18: 대두 | D18: 10,000 Tons | E18: 1286.911 | F18: 410.62995 | G18: 8618.0017 | H18: 2749.3646 | I18: 8184.9297 | J18: 2957.3133 | K18: 5.3 | L18: -7.0
B19: Vegetable Oil | C19: 식물성 오일 | D19: 10,000 Tons | E19: 55.870859 | F19: 52.241264 | G19: 501.07589 | H19: 442.28884 | I19: 539.09421 | J19: 387.65043 | K19: -7.1 | L19: 14.1
B20: Iron ore and concentrates | C20: 철광석 및 정광 | D20: 10,000 Tons | E20: 11632.577 | F20: 804.97383 | G20: 91768.517 | H20: 6323.7006 | I20: 91824.182 | J20: 7224.7973 | K20: -0.1 | L20: -12.5
B21: Copper ore and concentrates | C21: 구리광 및 정광 | D21: 10,000 Tons | E21: 258.68735 | F21: 521.51837 | G21: 2263.4082 | H21: 4306.9498 | I21: 2102.3527 | J21: 3593.3974 | K21: 7.7 | L21: 19.9
B22: Coal and lignite | C22: 석탄 및 갈탄 | D22: 10,000 Tons | E22: 4600.3182 | F22: 222.9104 | G22: 34588.476 | H22: 1818.6359 | I22: 38909.963 | J22: 2732.3638 | K22: -11.1 | L22: -33.4
B23: Crude Petroleum Oil | C23: 원유 | D23: 10,000 Tons | E23: 4725.1751 | F23: 1699.7335 | G23: 42299.66 | H23: 15849.571 | I23: 41235.883 | J23: 17687.58 | K23: 2.6 | L23: -10.4
B24: Refined Petroleum Products | C24: 정제 석유 제품 | D24: 10,000 Tons | E24: 394.81882 | F24: 155.01591 | G24: 3068.0307 | H24: 1286.4549 | I24: 3697.995 | J24: 1615.3339 | K24: -17.0 | L24: -20.4
B25: Natural Gas | C25: 천연가스 | D25: 10,000 Tons | E25: 1104.817 | F25: 338.10938 | G25: 9285.8594 | H25: 2994.1129 | I25: 9895.6977 | J25: 3463.7989 | K25: -6.2 | L25: -13.6
B26: Rare Earth | C26: 희토류 | D26: Ton | E26: 6864.746 | F26: 10.005257 | G26: 78898.371 | H26: 93.191464 | I26: 102489.05 | J26: 87.140432 | K26: -23.0 | L26: 6.9
... B33: Paper Pulp | C33: 제지용 펄프 | D33: 10,000 Tons | E33: 295.24914 | F33: 122.78022 | G33: 2706.0774 | H33: 1196.075 | I33: 2563.7655 | J33: 1193.1422 | K33: 5.6 | L33: 0.2
B34: Textile Yarn, Fabrics Products | C34: 섬유사, 직물 제품 | D34: - | E34: - | F34: 59.624968 | G34: - | H34: 518.44316 | I34: - | J34: 575.68997 | K34: - | L34: -9.9
B35: Steel Products | C35: 철 제품 | D35: 10,000 Tons | E35: 54.832084 | F35: 63.441075 | G35: 453.18783 | H35: 550.00697 | I35: 518.45964 | J35: 616.8683 | K35: -12.6 | L35: -10.8
B36: Unwrought Copper and Copper Products | C36: 구리 및 구리 제품 | D36: Ton | E36: 48.510538 | F36: 351.81448 | G36: 401.86179 | H36: 2847.2902 | I36: 408.98782 | J36: 2752.5618 | K36: -1.7 | L36: 3.4
B37: Mechanical and electrical products* | C37: 기계 및 전기 제품* | D37: - | E37: - | F37: 7086.5325 | G37: - | H37: 54242.739 | I37: - | J37: 51249.523 | K37: - | L37: 5.8
B38: Machine tools | C38: 공작 기계 | D38: Set | E38: 7829 | F38: 34.868859 | G38: 53360 | H38: 315.16232 | I38: 47215 | J38: 307.47835 | K38: 13.0 | L38: 2.5
B39: Automatic Data Processing Equipment and Components | C39: 자동 데이터 처리 장비 및 부품 | D39: - | E39: - | F39: 515.44231 | G39: - | H39: 5028.7095 | I39: - | J39: 3917.0446 | K39: - | L39: 28.4
B40: Diodes and similar semiconductor devices | C40: 다이오드 및 유사 반도체 기기 | D40: 100 Million PCS | E40: 461.36583 | F40: 163.55451 | G40: 3799.8693 | H40: 1298.2168 | I40: 3795.2791 | J40: 1249.0151 | K40: 0.1 | L40: 3.9
B41: Integrated Circuits | C41: 집적회로 | D41: 100 Million PCS | E41: 555.39398 | F41: 2930.3215 | G41: 4436.1524 | H41: 21921.647 | I41: 4073.931 | J41: 19968.074 | K41: 8.9 | L41: 9.8
B42: Motor Vehicles (including chassis) | C42: 자동차; 섀시 포함 | D42: 10,000 Cars | E42: 4.1185 | F42: 145.79818 | G42: 36.0428 | H42: 1309.6711 | I42: 53.3451 | J42: 2164.8714 | K42: -32.4 | L42: -39.5
B43: Automotive components and parts | C43: 자동차 부품 | D43: - | E43: - | F43: 130.00027 | G43: - | H43: 1147.1781 | I43: - | J43: 1462.7306 | K43: - | L43: -21.6
B44: Aircraft of more than 2-ton empty weight | C44: 자체 중량 2톤 이상의 항공기 | D44: Craft | E44: 27 | F44: 141.5539 | G44: 165 | H44: 795.39906 | I44: 114 | J44: 469.1194 | K44: 44.7 | L44: 69.6
B45: LCD Panels | C45: LCD 패널 | D45: 10,000 PCS | E45: 10052.646 | F45: 64.411337 | G45: 86409.319 | H45: 587.25662 | I45: 97072.644 | J45: 677.57379 | K45: -11.0 | L45: -13.3
B46: Medical devices | C46: 의료기기 | D46: - | E46: - | F46: 78.155416 | G46: - | H46: 677.82871 | I46: - | J46: 675.61457 | K46: - | L46: 0.3
B47: Hi-Tech Products * | C47: 첨단 제품 | D47: - | E47: - | F47: 5676.8093 | G47: - | H47: 42958.703 | I47: - | J47: 38937.251 | K47: - | L47: 10.3
B48: Note: "Agricultural Products*", “Electrical-Mechanical Products*" and "Hi-Tech Products*" include relevant products listed in the table.
B49: 농산물, 기계 및 전기 제품 및 첨단 제품 행에는 표에 있는 관련 제품을 포함합니다.

Sheet 12
B11: (6) China's Major Imports by Quantity and Value, Sep 2025 (in USD)
B12: 주요 수입품 수입 물량 및 금액
B13: Unit: USD1 Million (백만 달러)
B14: Commodity | C14: 상품 | D14: QTY Unit 물량 단위 | E14: 9 | G14: 1-9 Total | I14: 1-9 Total, 2024 | K14: 1-9 Total Year-On-Year(%) 전년동기대비 백분율 변화
E15: Quantity 물량 | F15: Value 금액 | G15: Quantity 물량 | H15: Value 금액 | I15: Quantity 물량 | J15: Value 금액 | K15: Quantity 물량 | L15: Value 금액
B16: Agricultural products* | C16: =VLOOKUP(B16,'11'!B:C,2,0) -> 농산물* | D16: - | E16: - | F16: 19678.478 | G16: - | H16: 155566.85 | I16: - | J16: 165222.17 | K16: - | L16: -5.8
B17: Meat (incl. entrails) | C17: =VLOOKUP(B17,'11'!B:C,2,0) -> 육류; 내장 포함 | D17: 10,000 Tons | E17: 54.401963 | F17: 2292.0075 | G17: 478.51105 | H17: 17913.645 | I17: 493.94208 | J17: 17168.724 | K17: -3.1 | L17: 4.3
B18: Fresh or Dried Fruits and Nuts | C18: =VLOOKUP(B18,'11'!B:C,2,0) -> 신선 또는 건조 과일류 및 견과류 | D18: 10,000 Tons | E18: 82.643535 | F18: 1837.9802 | G18: 716.58325 | H18: 15199.791 | I18: 622.70065 | J18: 15223.258 | K18: 15.1 | L18: -0.2
B19: Grain | C19: =VLOOKUP(B19,'11'!B:C,2,0) -> 곡물 | D19: 10,000 Tons | E19: 1582.612 | F19: 6679.5602 | G19: 10672.847 | H19: 45076.147 | I19: 12705.333 | J19: 55450.424 | K19: -16.0 | L19: -18.7
B20: Soybeans | C20: =VLOOKUP(B20,'11'!B:C,2,0) -> 대두 | D20: 10,000 Tons | E20: 1286.911 | F20: 5752.6696 | G20: 8618.0017 | H20: 38319.6 | I20: 8184.9297 | J20: 41588.832 | K20: 5.3 | L20: -7.9
B21: Vegetable Oil | C21: =VLOOKUP(B21,'11'!B:C,2,0) -> 식물성 오일 | D21: 10,000 Tons | E21: 55.870859 | F21: 732.77907 | G21: 501.07589 | H21: 6166.0912 | I21: 539.09421 | J21: 5451.2003 | K21: -7.1 | L21: 13.1
B22: Iron ore and concentrates | C22: =VLOOKUP(B22,'11'!B:C,2,0) -> 철광석 및 정광 | D22: 10,000 Tons | E22: 11632.577 | F22: 11278.067 | G22: 91768.517 | H22: 88129.236 | I22: 91824.182 | J22: 101603.72 | K22: -0.1 | L22: -13.3
B23: Copper ore and concentrates | C23: =VLOOKUP(B23,'11'!B:C,2,0) -> 구리광 및 정광 | D23: 10,000 Tons | E23: 258.68735 | F23: 7304.1321 | G23: 2263.4082 | H23: 60017.49 | I23: 2102.3527 | J23: 50525.326 | K23: 7.7 | L23: 18.8
B24: Coal and lignite | C24: =VLOOKUP(B24,'11'!B:C,2,0) -> 석탄 및 갈탄 | D24: 10,000 Tons | E24: 4600.3182 | F24: 3127.1576 | G24: 34588.476 | H24: 25352.57 | I24: 38909.963 | J24: 38427.943 | K24: -11.1 | L24: -34.0
B25: Crude Petroleum Oil | C25: =VLOOKUP(B25,'11'!B:C,2,0) -> 원유 | D25: 10,000 Tons | E25: 4725.1751 | F25: 23828.847 | G25: 42299.66 | H25: 220896.21 | I25: 41235.883 | J25: 248746.65 | K25: 2.6 | L25: -11.2
B26: Refined Petroleum Products | C26: =VLOOKUP(B26,'11'!B:C,2,0) -> 정제 석유 제품 | D26: 10,000 Tons | E26: 394.81882 | F26: 2171.7687 | G26: 3068.0307 | H26: 17930.505 | I26: 3697.995 | J26: 22720.196 | K26: -17.0 | L26: -21.1
B27: Natural Gas | C27: =VLOOKUP(B27,'11'!B:C,2,0) -> 천연가스 | D27: 10,000 Tons | E27: 1104.817 | F27: 4737.4734 | G27: 9285.8594 | H27: 41722.736 | I27: 9895.6977 | J27: 48708.171 | K27: -6.2 | L27: -14.3
B28: Rare Earth | C28: =VLOOKUP(B28,'11'!B:C,2,0) -> 희토류 | D28: Ton | E28: 6864.746 | F28: 140.74973 | G28: 78898.371 | H28: 1299.2867 | I28: 102489.05 | J28: 1226.0457 | K28: -23.0 | L28: 6.0
... B35: Paper Pulp | C35: =VLOOKUP(B35,'11'!B:C,2,0) -> 제지용 펄프 | D35: 10,000 Tons | E35: 295.24914 | F35: 1720.2764 | G35: 2706.0774 | H35: 16664.039 | I35: 2563.7655 | J35: 16779.718 | K35: 5.6 | L35: -0.7
B36: Textile Yarn, Fabrics Products | C36: =VLOOKUP(B36,'11'!B:C,2,0) -> 섬유사, 직물 제품 | D36: - | E36: - | F36: 835.58605 | G36: - | H36: 7227.1449 | I36: - | J36: 8096.3588 | K36: - | L36: -10.7
B37: Steel Products | C37: =VLOOKUP(B37,'11'!B:C,2,0) -> 철 제품 | D37: 10,000 Tons | E37: 54.832084 | F37: 889.95785 | G37: 453.18783 | H37: 7669.2782 | I37: 518.45964 | J37: 8675.991 | K37: -12.6 | L37: -11.6
B38: Unwrought Copper and Copper Products | C38: =VLOOKUP(B38,'11'!B:C,2,0) -> 구리 및 구리 제품 | D38: Ton | E38: 48.510538 | F38: 4936.8872 | G38: 401.86179 | H38: 39696.117 | I38: 408.98782 | J38: 38714.887 | K38: -1.7 | L38: 2.5
B39: Mechanical and electrical products* | C39: =VLOOKUP(B39,'11'!B:C,2,0) -> 기계 및 전기 제품* | D39: - | E39: - | F39: 99270.054 | G39: - | H39: 756168.09 | I39: - | J39: 720681.4 | K39: - | L39: 4.9
B40: Machine tools | C40: =VLOOKUP(B40,'11'!B:C,2,0) -> 공작 기계 | D40: Set | E40: 7829 | F40: 489.34078 | G40: 53360 | H40: 4399.1863 | I40: 47215 | J40: 4325.3543 | K40: 13.0 | L40: 1.7
B41: Automatic Data Processing Equipment and Components | C41: =VLOOKUP(B41,'11'!B:C,2,0) -> 자동 데이터 처리 장비 및 부품 | D41: - | E41: - | F41: 7219.7697 | G41: - | H41: 70059.353 | I41: - | J41: 55073.318 | K41: - | L41: 27.2
B42: Diodes and similar semiconductor devices | C42: =VLOOKUP(B42,'11'!B:C,2,0) -> 다이오드 및 유사 반도체 기기 | D42: 100 Million PCS | E42: 461.36583 | F42: 2290.2364 | G42: 3799.8693 | H42: 18094.28 | I42: 3795.2791 | J42: 17563.592 | K42: 0.1 | L42: 3.0
B43: Integrated Circuits | C43: =VLOOKUP(B43,'11'!B:C,2,0) -> 집적회로 | D43: 100 Million PCS | E43: 555.39398 | F43: 41051.541 | G43: 4436.1524 | H43: 305517.51 | I43: 4073.931 | J43: 280789.69 | K43: 8.9 | L43: 8.8
B44: Motor Vehicles (including chassis) | C44: =VLOOKUP(B44,'11'!B:C,2,0) -> 자동차; 섀시 포함 | D44: 10,000 Cars | E44: 4.1185 | F44: 2041.6578 | G44: 36.0428 | H44: 18249.859 | I44: 53.3451 | J44: 30448.218 | K44: -32.4 | L44: -40.1
B45: Automotive components and parts | C45: =VLOOKUP(B45,'11'!B:C,2,0) -> 자동차 부품 | D45: - | E45: - | F45: 1809.9395 | G45: - | H45: 15997.139 | I45: - | J45: 20565.016 | K45: - | L45: -22.2
B46: Aircraft of more than 2-ton empty weight | C46: =VLOOKUP(B46,'11'!B:C,2,0) -> 자체 중량 2톤 이상의 항공기 | D46: Craft | E46: 27 | F46: 1983.0073 | G46: 165 | H46: 11092.364 | I46: 114 | J46: 6595.7591 | K46: 44.7 | L46: 68.2
B47: LCD Panels | C47: =VLOOKUP(B47,'11'!B:C,2,0) -> LCD 패널 | D47: 10,000 PCS | E47: 10052.646 | F47: 901.63162 | G47: 86409.319 | H47: 8183.5098 | I47: 97072.644 | J47: 9529.1479 | K47: -11.0 | L47: -14.1
B48: Medical devices | C48: =VLOOKUP(B48,'11'!B:C,2,0) -> 의료기기 | D48: - | E48: - | F48: 1098.2618 | G48: - | H48: 9454.5923 | I48: - | J48: 9501.9174 | K48: - | L48: -0.5
B49: Hi-Tech Products * | C49: =VLOOKUP(B49,'11'!B:C,2,0) -> 첨단 제품 | D49: - | E49: - | F49: 79535.38 | G49: - | H49: 598821.31 | I49: - | J49: 547549.9 | K49: - | L49: 9.4
B50: Note: "Agricultural Products*", “Electrical-Mechanical Products*" and "Hi-Tech Products*" include relevant products listed in the table.
B51: =HLOOKUP(B50,'11'!48:49,2,0) -> 농산물, 기계 및 전기 제품 및 첨단 제품 행에는 표에 있는 관련 제품을 포함합니다.

Sheet 13
B4: (7) Statistics Bulletin on Freights in Sep 2025
B5: 화물운송 통계
B6: Indicator | C6: 지표 | D6: Unit 단위 | E6: 9 | H6: 1-to-9
E7: 2025 | F7: 2024 | G7: Year-on-Year ±% 전년동월대비 백분율 변화 | H7: 2025 | I7: 2024 | J7: Year-on-Year ±% 전년동기대비 백분율 변화
B8: Import/Export Freight Quantity | C8: 수출입 화물 물량 | D8: 10,000 tons | E8: 50340.654 | F8: 47119.457 | G8: 6.8362 | H8: 423473.17 | I8: 414171.65 | J8: 2.2458
B9: Import | C9: 수입 | D9: 10,000 tons | E9: 32889.844 | F9: 30844.088 | G9: 6.6326 | H9: 268001.73 | I9: 270626.3 | J9: -0.9698
B10: Export | C10: 수출 | D10: 10,000 tons | E10: 17450.81 | F10: 16275.368 | G10: 7.2222 | H10: 155471.44 | I10: 143545.36 | J10: 8.3082
B11: Totaled Supervised Vehicles | C11: 관리되는 전차량 | D11: car/craft/ship | E11: 4237003 | F11: 3592056 | G11: 17.9548 | H11: 35822879 | I11: 32124717 | J11: 11.5119
B12: Totaled Supervised Entries & Exits | C12: 관리되는 전입출국 | D12: car/craft/ship | E12: 3951316 | F12: 3306501 | G12: 19.5014 | H12: 33179092 | I12: 29612617 | J12: 12.0438
B13: Incl: Inward/Outward Trucks | C13: 포함: 입출국 트럭 | D13: car | E13: 3444804 | F13: 2818730 | G13: 22.2112 | H13: 28535781 | I13: 25227804 | J13: 13.1124
B14: Inward/Outward Trains | C14: 입출국 열차 | D14: car | E14: 390226 | F14: 378361 | G14: 3.1359 | H14: 3583135 | I14: 3436394 | J14: 4.2702
B15: Inward/Outward Ships | C15: 입출국 선박 | D15: ship | E15: 33774 | F15: 33351 | G15: 1.2683 | H15: 313517 | I15: 304172 | J15: 3.0723
B16: Inward/Outward Airplanes | C16: 입출국 항공기 | D16: craft | E16: 82512 | F16: 76059 | G16: 8.4842 | H16: 746659 | I16: 644247 | J16: 15.8964
